BEGIN:VCALENDAR
VERSION:2.0
PRODID:-//Feuerwehr Bröckel - ECPv5.4.0.2//NONSGML v1.0//EN
CALSCALE:GREGORIAN
METHOD:PUBLISH
X-WR-CALNAME:Feuerwehr Bröckel
X-ORIGINAL-URL:https://feuerwehr-broeckel.de
X-WR-CALDESC:Veranstaltungen für Feuerwehr Bröckel
BEGIN:VTIMEZONE
TZID:Europe/Berlin
BEGIN:DAYLIGHT
TZOFFSETFROM:+0100
TZOFFSETTO:+0200
TZNAME:CEST
DTSTART:20170326T010000
END:DAYLIGHT
BEGIN:STANDARD
TZOFFSETFROM:+0200
TZOFFSETTO:+0100
TZNAME:CET
DTSTART:20171029T010000
END:STANDARD
END:VTIMEZONE
BEGIN:VEVENT
DTSTART;TZID=Europe/Berlin:20170614T173000
DTEND;TZID=Europe/Berlin:20170614T190000
DTSTAMP:20260423T175913
CREATED:20170120T220431Z
LAST-MODIFIED:20170120T220431Z
UID:380-1497461400-1497466800@feuerwehr-broeckel.de
SUMMARY:Gruppendienst Atemschutz
DESCRIPTION:
URL:https://feuerwehr-broeckel.de/event/gruppendienst-atemschutz-3/
LOCATION:Feuerwehrhaus Bröckel\, Schulstraße 10\, Bröckel\, Niedersachsen\, 29356\, Deutschland
CATEGORIES:Atemschutz,Ausbildung
END:VEVENT
END:VCALENDAR